BEGIN:VCALENDAR
VERSION:2.0
PRODID:-//Jugendparlament Hemmingen - ECPv6.15.20//NONSGML v1.0//EN
CALSCALE:GREGORIAN
METHOD:PUBLISH
X-WR-CALNAME:Jugendparlament Hemmingen
X-ORIGINAL-URL:https://jupahemmingen.de
X-WR-CALDESC:Veranstaltungen für Jugendparlament Hemmingen
REFRESH-INTERVAL;VALUE=DURATION:PT1H
X-Robots-Tag:noindex
X-PUBLISHED-TTL:PT1H
BEGIN:VTIMEZONE
TZID:Europe/Berlin
BEGIN:DAYLIGHT
TZOFFSETFROM:+0100
TZOFFSETTO:+0200
TZNAME:CEST
DTSTART:20250330T010000
END:DAYLIGHT
BEGIN:STANDARD
TZOFFSETFROM:+0200
TZOFFSETTO:+0100
TZNAME:CET
DTSTART:20251026T010000
END:STANDARD
BEGIN:DAYLIGHT
TZOFFSETFROM:+0100
TZOFFSETTO:+0200
TZNAME:CEST
DTSTART:20260329T010000
END:DAYLIGHT
BEGIN:STANDARD
TZOFFSETFROM:+0200
TZOFFSETTO:+0100
TZNAME:CET
DTSTART:20261025T010000
END:STANDARD
BEGIN:DAYLIGHT
TZOFFSETFROM:+0100
TZOFFSETTO:+0200
TZNAME:CEST
DTSTART:20270328T010000
END:DAYLIGHT
BEGIN:STANDARD
TZOFFSETFROM:+0200
TZOFFSETTO:+0100
TZNAME:CET
DTSTART:20271031T010000
END:STANDARD
END:VTIMEZONE
BEGIN:VEVENT
DTSTART;TZID=Europe/Berlin:20260603T190000
DTEND;TZID=Europe/Berlin:20260603T210000
DTSTAMP:20260426T034911
CREATED:20260113T132832Z
LAST-MODIFIED:20260113T132834Z
UID:2057-1780513200-1780520400@jupahemmingen.de
SUMMARY:Konstituierende Sitzung des 2. Jugendparlament Hemmingen
DESCRIPTION:
URL:https://jupahemmingen.de/termine/konstituierende-sitzung-des-2-jugendparlament-hemmingen/
LOCATION:Ratssaal\, Rathausplatz 1\, 30966 Hemmingen
END:VEVENT
END:VCALENDAR