BEGIN:VCALENDAR
VERSION:2.0
PRODID:-//Jugendparlament Hemmingen - ECPv6.15.20//NONSGML v1.0//EN
CALSCALE:GREGORIAN
METHOD:PUBLISH
X-WR-CALNAME:Jugendparlament Hemmingen
X-ORIGINAL-URL:https://jupahemmingen.de
X-WR-CALDESC:Veranstaltungen für Jugendparlament Hemmingen
REFRESH-INTERVAL;VALUE=DURATION:PT1H
X-Robots-Tag:noindex
X-PUBLISHED-TTL:PT1H
BEGIN:VTIMEZONE
TZID:Europe/Berlin
BEGIN:DAYLIGHT
TZOFFSETFROM:+0100
TZOFFSETTO:+0200
TZNAME:CEST
DTSTART:20250330T010000
END:DAYLIGHT
BEGIN:STANDARD
TZOFFSETFROM:+0200
TZOFFSETTO:+0100
TZNAME:CET
DTSTART:20251026T010000
END:STANDARD
BEGIN:DAYLIGHT
TZOFFSETFROM:+0100
TZOFFSETTO:+0200
TZNAME:CEST
DTSTART:20260329T010000
END:DAYLIGHT
BEGIN:STANDARD
TZOFFSETFROM:+0200
TZOFFSETTO:+0100
TZNAME:CET
DTSTART:20261025T010000
END:STANDARD
BEGIN:DAYLIGHT
TZOFFSETFROM:+0100
TZOFFSETTO:+0200
TZNAME:CEST
DTSTART:20270328T010000
END:DAYLIGHT
BEGIN:STANDARD
TZOFFSETFROM:+0200
TZOFFSETTO:+0100
TZNAME:CET
DTSTART:20271031T010000
END:STANDARD
END:VTIMEZONE
BEGIN:VEVENT
DTSTART;TZID=Europe/Berlin:20260412T153000
DTEND;TZID=Europe/Berlin:20260412T153000
DTSTAMP:20260425T205625
CREATED:20260113T125031Z
LAST-MODIFIED:20260323T102710Z
UID:2046-1776007800-1776007800@jupahemmingen.de
SUMMARY:Kandidierendentreff - JuPa Wahl 2026
DESCRIPTION:Die Kandidierenden für die JuPa Wahl 2026 stehen fest!  \n\n\n\nHeute treffen sich alle Kandidierenden im Jugend-Kultur-Haus und sprechen über die Wahl\, machen Fotos und Steckbriefe. \n\n\n\nDie Ergebnisse werden hier auf der Webseite veröffentlicht. \n\n\n\nAm 11.05. – 21.05.2026 wird dann gewählt!
URL:https://jupahemmingen.de/termine/kandidierendentreff-jupa-wahl-2026/
LOCATION:Jugend-Kultur-Haus\, Hohe Bünte 6\, 30966\, Hemmingen
END:VEVENT
BEGIN:VEVENT
DTSTART;TZID=Europe/Berlin:20260408T183000
DTEND;TZID=Europe/Berlin:20260408T200000
DTSTAMP:20260425T205625
CREATED:20260113T124714Z
LAST-MODIFIED:20260113T124716Z
UID:2044-1775673000-1775678400@jupahemmingen.de
SUMMARY:JuPa & Friends
DESCRIPTION:Heute geht es um die anstehende JuPa Wahl 2026! Kommt vorbei und stellt eure Fragen. \n\n\n\nNatürlich könnt ihr auch einfach so vorbeikommen und uns eure Wünsche mitteilen. \n\n\n\nEs gibt KOSTENLOSE PIZZA!
URL:https://jupahemmingen.de/termine/jupa-friends-3/
LOCATION:Jugend-Kultur-Haus\, Hohe Bünte 6\, 30966\, Hemmingen
END:VEVENT
END:VCALENDAR